BEGIN:VCALENDAR
VERSION:2.0
PRODID:-//Welcome to Rama Krishna Public School - ECPv6.3.3.1//NONSGML v1.0//EN
CALSCALE:GREGORIAN
METHOD:PUBLISH
X-ORIGINAL-URL:https://ramakrishnapublicschool.in
X-WR-CALDESC:Events for Welcome to Rama Krishna Public School
REFRESH-INTERVAL;VALUE=DURATION:PT1H
X-Robots-Tag:noindex
X-PUBLISHED-TTL:PT1H
BEGIN:VTIMEZONE
TZID:UTC
BEGIN:STANDARD
TZOFFSETFROM:+0000
TZOFFSETTO:+0000
TZNAME:UTC
DTSTART:20240101T000000
END:STANDARD
END:VTIMEZONE
BEGIN:VEVENT
DTSTART;TZID=UTC:20241210T080000
DTEND;TZID=UTC:20241210T170000
DTSTAMP:20260421T082524
CREATED:20230403T053003Z
LAST-MODIFIED:20230417T044505Z
UID:12275-1733817600-1733850000@ramakrishnapublicschool.in
SUMMARY:Fancy Dress
DESCRIPTION:
URL:https://ramakrishnapublicschool.in/eve/fancy-dress/
ATTACH;FMTTYPE=image/jpeg:https://ramakrishnapublicschool.in/wp-content/uploads/2023/04/fancydress.jpg
END:VEVENT
END:VCALENDAR